BEGIN:VCALENDAR
VERSION:2.0
PRODID:-//TYPO3/WES Cal (wes_cal)//DE
METHOD:PUBLISH
BEGIN:VEVENT
UID:https://www.friedrichshafen.de_42425
DTSTAMP:20260425T144430
DTSTART:20261113T000000
CATEGORIES:Genuss,Jahreshighlights,Musik,Musik,Jahreshighlights,Genuss
SUMMARY:Weihnachtsdorf Friedrichshafen 
DESCRIPTION:Wenn die Tage kürzer werden und die Luft kühler, verwandelt sich unser Biergarten in ein wahres Winterwunderland. Überall erstrahlen Lichter in warmen Farben, die Bäume und Tische sind festlich geschmückt, und die weihnachtliche Atmosphäre lädt dazu ein, den Alltag hinter sich zu lassen und in eine besinnliche Zeit einzutauchen.\r\nOb im Kreise von Freunden, der Familie oder mit Kollegen – unser Biergarten bietet den perfekten Rahmen für unvergessliche Momente. Hier können Sie in gemütlicher Runde die Vorfreude auf das bevorstehende Fest teilen, bei einer Tasse Glühwein oder einem heißen Punsch die winterliche Kühle genießen und sich von den Klängen festlicher Musik verzaubern lassen. Für Speis und Trank ist gesorgt. Beispielsweise können Sie unsere leckeren Erdbeer- oder Orangen-Ingwer-Glühwein genießen. Zudem gibt es Glüh-Gin, Kinderpunsch, alkoholfreie Getränke, gebrannte Mandeln, Grillwürste, Steaks und Pommes. Dabei dient unsere fest installierte Schirmbar als Ausschank-Theke. Selbstverständlich sind auch Toiletten vor Ort. Damit es von unten nicht kalt wird, haben wir auf dem Boden jede Menge Hackschnitzel verteilt.\r\n\r\n
LOCATION:Restaurant-Biergarten Lammgarten, 88045 Friedrichshafen
ATTACH:https://www.friedrichshafen.de/fileadmin/BENUTZERDATEN/friedrichshafen.de/Veranstaltungen/Winterdorf94_c_Lammgarten.jpg
END:VEVENT
END:VCALENDAR