BEGIN:VCALENDAR
VERSION:2.0
PRODID:-//TYPO3/WES Cal (wes_cal)//DE
METHOD:PUBLISH
BEGIN:VEVENT
UID:https://www.friedrichshafen.de_42374
DTSTAMP:20260422T173905
DTSTART:20260510T130000
DTEND:20260510T180000
CATEGORIES:Veranstaltungs-Kategorien,Führungen,Genuss,Senioren,Senioren,Führungen,Genuss
SUMMARY:Schloss Friedrichshafen: Weinpräsentation & Parkführung im Schlosspark
DESCRIPTION:Wir stellen Ihnen unsere frischen und spritzigen Weißweine des neuen Jahrgangs 2025 und die eleganten und fein gereiften Rotweine aus unserem Weingut vor. Verkosten Sie und finden Sie ganz einfach Ihren Lieblingswein.\r\nParkführungIm Rahmen der Weinpräsentation des Weinguts Herzog von Württemberg kann der Park unter fachkundiger Führung des Schlossparkgärtners besichtigt werden. Bei einem Spaziergang durch den Schlosspark können Sie unsere Schätze an verschiedenen idyllischen Plätzen genießen und sich von der hohen Qualität unserer Weine überzeugen.\r\nKarten sind in der Vinothek am Schloss und im webshop des Weingut www.weingut-wuerttemberg.de erhältlich.
LOCATION:Schloss Friedrichshafen, 88045 Friedrichshafen
ATTACH:https://www.friedrichshafen.de/fileadmin/BENUTZERDATEN/friedrichshafen.de/Statische_Seiten/Seiten/Tourismus/2026_05_Hofkammer_Weinpr%C3%A4sentation_Parkfuehrung.jpg
END:VEVENT
END:VCALENDAR