BEGIN:VCALENDAR
VERSION:2.0
PRODID:-//TYPO3/WES Cal (wes_cal)//DE
METHOD:PUBLISH
BEGIN:VEVENT
UID:https://www.friedrichshafen.de_42351
DTSTAMP:20260422T163434
DTSTART:20260721T140000
DTEND:20260721T150000
CATEGORIES:Ferienprogramm,Führungen,Ferienprogramm,Führungen,Kinder & Familie,Kinder & Familie,Führungen,Ferienprogramm
SUMMARY:Kostümführung: Mit dem Dorfschulmeister in die Schule von 1850
DESCRIPTION:Die ländliche Schule um 1850 ist eine echte Herausforderung - sowohl für die Schulkinder als auch den Lehrer. Museumsführer Claudius Beck erzählt als “Dorfschulmeisterlein” verkleidet, wie es anno dazumal im Unterricht zuging. \r\nDie Kostümführung dauert ca. 60 Minuten. Kosten: Erwachsene 3 €, Kinder ab 6 Jahre 1 € (zzgl. Museumseintritt). Anmeldung empfohlen.  
LOCATION:Schulmuseum, 88045 Friedrichshafen
ATTACH:https://www.friedrichshafen.de/fileadmin/BENUTZERDATEN/Schulmuseum/Veranstaltungen/Claudius_Beck.jpg
END:VEVENT
END:VCALENDAR