BEGIN:VCALENDAR
VERSION:2.0
PRODID:-//TYPO3/WES Cal (wes_cal)//DE
METHOD:PUBLISH
BEGIN:VEVENT
UID:https://www.friedrichshafen.de_42348
DTSTAMP:20260425T144344
DTSTART:20260508T190000
CATEGORIES:Musik,Musik
SUMMARY:Gessler 1862: Ein musikalischer Abend mit dem Duo Reflets Ondulés
DESCRIPTION:“Zwischen Erinnerung und Sehnsucht” - ein musikalischer Abend mit dem Duo Reflets Ondulés\r\n… bestehend aus der Mezzosopranistin Helen Weintritt und der Pianistiin Elli Freundorfner, lädt zu einem kammermusikalischen Konzertabend zwischen Lied, Chanson und Musiktheater ein.\r\nUnter dem Titel “Zwischen Erinnerung und Sehnsucht” entfaltet sich ein fein kuratiertes Programm mit Werken unter anderem von Francis Poulenc, Kurt Weill, Manuel de Falla und Astor Piazzolla. Die ausgewählten Stücke bewegen sich zwischen Intimität und Ausruck, zwischen innerem Erleben und musikallischer Präsenz.\r\nEintritt frei, der Hut geht um!  \r\nDas Café Gessler bietet die Bühne für Musiker aus der Region.
LOCATION:Café und Weinbar Gessler 1862, 88045 Friedrichshafen
ATTACH:https://www.friedrichshafen.de/fileadmin/BENUTZERDATEN/friedrichshafen.de/Statische_Seiten/Seiten/Tourismus/2026_04-Gessler_Duo.jpg
END:VEVENT
END:VCALENDAR