BEGIN:VCALENDAR
VERSION:2.0
PRODID:-//TYPO3/WES Cal (wes_cal)//DE
METHOD:PUBLISH
BEGIN:VEVENT
UID:https://www.friedrichshafen.de_42359
DTSTAMP:20260422T190738
DTSTART:20260424T203000
DTEND:20260424T220000
CATEGORIES:Führungen,Führungen
SUMMARY:Führung: Schlosskirche bei Nacht für Erwachsene mit Besichtigung des Gewölbekellers 
DESCRIPTION:Beim Erkunden der Schlosskirche im Schein der Taschenlampen fällt Licht auf Details. Wofür stehen die Gegenstände, Bilder und Besonder­heiten in dieser Kirche? Wie gibt die Ausstattung Hinweise auf die bewegte Geschichte? In offener Atmosphäre ist Raum für Gespräche, Fragen und persönliche Antworten. Bitte mitbringen: Taschenlampen Rüdiger Jeno ist Pfarrer der Schlosskirche.\r\nhttps://www.keb-fn.de/kurse/kurs/Schlosskirche-bei-Nacht-fuer-Erwachsene-mit-Besichtigung-des-Gewoelbekellers/260424 \r\nDie Führung ist kostenlos, ein freiwilliger Beitrag willkommen.
LOCATION:Schlosskirche, 88045 Friedrichshafen
END:VEVENT
END:VCALENDAR