BEGIN:VCALENDAR
VERSION:2.0
PRODID:-//TYPO3/WES Cal (wes_cal)//DE
METHOD:PUBLISH
BEGIN:VEVENT
UID:https://www.friedrichshafen.de_42379
DTSTAMP:20260422T145925
DTSTART:20260425T000000
CATEGORIES:Ausstellungen & Vorträge,Führungen,Ausstellungen & Vorträge,Führungen
SUMMARY:KulturCampus 2026 – Exkursion für Erwachsene: Buche – Eiche – Esche
DESCRIPTION:KulturCampus 2026\r\nAnlässlich des Tag des Baumes: Exkursion für Erwachsene\r\nBäume im Fallenbrunnen mit Karin BeerDie Stadtförsterin informiert dabei über das Waldmanagement der Stadt und die heimische Natur. \r\nFestes Schuhwerk wird empfohlen!
LOCATION:Kulturhaus Caserne Open Air im Innenhof, 88045 Friedrichshafen
ATTACH:https://www.friedrichshafen.de/fileadmin/BENUTZERDATEN/friedrichshafen.de/Veranstaltungen/Kulturhaus_Caserne/26_04_25_buche_eiche_esche_1_.jpg
ATTACH:https://www.friedrichshafen.de/fileadmin/BENUTZERDATEN/friedrichshafen.de/Veranstaltungen/Kulturhaus_Caserne/Wiederkehrende_Bilder/VA_Kalender_FN_logo_caserne.jpg
END:VEVENT
END:VCALENDAR