BEGIN:VCALENDAR
VERSION:2.0
PRODID:-//TYPO3/WES Cal (wes_cal)//DE
METHOD:PUBLISH
BEGIN:VEVENT
UID:https://www.friedrichshafen.de_42299
DTSTAMP:20260422T162820
DTSTART:20260425T150000
DTEND:20260425T163000
CATEGORIES:Führungen,Führungen
SUMMARY:„Buche, Eiche, Esche“ – Bäume im Fallenbrunnen
DESCRIPTION:Stadtförsterin Karin Beer informiert über das Waldmanagement der Stadt und die heimische Natur. Exkursion für Erwachsene.\r\nTreffpunkt: 15 Uhr im Innenhof des Kulturhauses Caserne\r\nDauer: ca. bis 16.30 Uhr\r\nFestes Schuhwerk und angepasste Kleidung sind empfehlenswert.\r\nAnmeldung und Reservierung: www.kulturhaus-caserne.de unter Programm April 2026
LOCATION:Kulturhaus Caserne gGmbH, 88045 Friedrichshafen
END:VEVENT
END:VCALENDAR