BEGIN:VCALENDAR
VERSION:2.0
PRODID:-//TYPO3/WES Cal (wes_cal)//DE
METHOD:PUBLISH
BEGIN:VEVENT
UID:https://www.friedrichshafen.de_42407
DTSTAMP:20260422T173915
DTSTART:20260613T100000
DTEND:20260613T113000
CATEGORIES:Führungen,Führungen
SUMMARY:Ackerführung bei der Solawi Bodensee 
DESCRIPTION:Solawi steht für Solidarische Landwirtschaft. Die Vereinsmitglieder betreiben nachhaltigen Bio-Gemüseanbau, finanzieren den gemeinsamen Betrieb, packen tatkräftig mit an und teilen sich die Ernte. Bei der Ackerführung in Friedrichshafen-Raderach lernen Sie die Idee und das Anliegen des sozialen und ökologischen Projekts und die Geschichte der gemeinwohlorientierten Solawi-Betriebe kennen. Uta Wentzky berichtet, wie sich Koch- und Essgewohnheiten ändern, wenn das auf den Tisch kommt, was der eigene Acker hergibt.\r\nKeine Gebühr, freiwilliger Beitrag willkommen. 
LOCATION:Solawi Bodensee e. V., 88048 Friedrichshafen-Raderach
END:VEVENT
END:VCALENDAR