BEGIN:VCALENDAR
VERSION:2.0
PRODID:-//TYPO3/WES Cal (wes_cal)//DE
METHOD:PUBLISH
BEGIN:VEVENT
UID:https://www.friedrichshafen.de_37617
DTSTAMP:20260423T121632
DTSTART:20260429T180000
CATEGORIES:Happy Hour,Kabarett & Comedy,Kabarett & Comedy
SUMMARY:Matthias Ningel - Harmonie
DESCRIPTION:Musik und Kabarett\nMenschenfeinde, Terroristen, Extremisten – sie alle haben offensichtlich ein Problem mit Musik. Auch der allgegenwärtige Rechtsruck ist nicht nur furchteinflößend, sondern auch wahnsinnig unmusikalisch. Das jedenfalls findet Matthias Ningel. In „Harmonie“ geht es für den intellektuellen Musik-Clown darum ums Ganze. Ums ganz große Ganze. Um die Harmonie in Musik und Gesellschaft.\nWarum fühlt sich derzeit alles so aus dem Takt geraten an? Ob schmerzhafte Nierenkoliken, versteckte Tragödien unterm Laminatboden oder die Omnipräsenz von Bildschirmen im öffentlichen Raum: Mit Gesang, Klavier, Synthesizer und diversen Kleininstrumenten überträgt Matthias Ningel gesellschaftliche Phänomene in Musik. Doch trotz vielfacher Auszeichnungen weiß auch er leider nicht, wie man die Welt in Ordnung bringt. Aber als promovierter Musiker und Kabarettist ordnet er das Chaos – und das macht richtig Spaß.\nDauer: 1 Stunde, keine Pauseein Getränk inklusiveIm Rahmen der Reihe HAPPY HOUR\nBild: Dominik Reichenbach
LOCATION:Bahnhof Fischbach, 88048 Friedrichshafen
ATTACH:https://www.friedrichshafen.de/fileadmin/user_upload/tx_wescal_reservix_import_images/241616100.jpg
END:VEVENT
END:VCALENDAR