BEGIN:VCALENDAR
VERSION:2.0
PRODID:-//TYPO3/WES Cal (wes_cal)//DE
METHOD:PUBLISH
BEGIN:VEVENT
UID:https://www.friedrichshafen.de_20124
DTSTAMP:20260420T102228
DTSTART:20211111T193000
CATEGORIES:Schauspiel,Theater,Schauspiel & Theater
SUMMARY:Transit
DESCRIPTION:nach dem gleichnamigen Roman von Anna Seghers Bühnenfassung von Ulrike Janssen und Heinz Simon Keller  Heinz Simon Keller Regie Theater der Keller, Köln  Wer auf der Flucht ist, ist auch immer irgendwo. In der Fremde, in der Unsicherheit, im Dazwischen. Wie zerbrechlich ist ein menschliches Leben? Wie kann man lieben, wo kann man leben, wenn man sich dabei immer wieder schuldig macht?  Anna Seghers’ großer Roman Transit ist ein zeitloses Dokument der Verwundbarkeit des Menschen angesichts des Terrors. Im Marseille der 40er Jahre sammeln sich die Flüchtlinge. Für die Weiterfahrt brauchen sie Transitpapiere, aber die sind kaum zu bekommen. In der zermürbenden Wartezeit steht für die Figuren in Transit alles auf dem Spiel: die Identität, die Möglichkeit, irgendwo legal zu leben, die Möglichkeit, jemanden ohne Verlust zu lieben. Das einzige, was bleibt, ist die Unsicherheit ...  Die Inszenierung war für den Kölner Theaterpreis 2020 nominiert.  Dauer: 85 Minuten, keine Pause  Die Presse schrieb: „Das Theater der Keller startet mit einem beglückenden Theaterabend in die neue Saison und einer sehr bewegenden Adaption, die das Hirn und Herz der  Zuschauer anspricht.“  Abonnement „Studiotheater im Bahnhof Fischbach"
LOCATION:Bahnhof Fischbach, 88048 Friedrichshafen
END:VEVENT
END:VCALENDAR