BEGIN:VCALENDAR
VERSION:2.0
PRODID:-//TYPO3/WES Cal (wes_cal)//DE
METHOD:PUBLISH
BEGIN:VEVENT
UID:https://www.friedrichshafen.de_20302
DTSTAMP:20260420T133112
DTSTART:20211006T180000
CATEGORIES:Kinder-/Jugendtheater,Workshops & Pädagogische Angebote,Theater,Kinder & Familie,Schauspiel & Theater,Kinder & Familie,Sonstiges
SUMMARY:Theaterspielclub
DESCRIPTION:06.10.21 - 26.03.2022 Für Jugendliche ab 16 Jahren und Erwachsene Leitung: Angelika Wagner (Theaterpädagogin BuT) \r\nSchon mal daran gedacht, Schauspieler zu werden? Oder willst du vielleicht „nur“ überzeugender rüberkommen? Oder eine charismatischere Ausstrahlung? Wer Lust dazu hat, sich auf der Bühne auszuprobieren, zu improvisieren, an Körper und Stimme zu arbeiten oder sich einfach mal in jemand anderen zu verwandeln, der sollte sich für diesen Club anmelden! Gemeinsam erarbeitet ihr eine Theaterinszenierung, die unter professionellen Bedingungen im März 2022 im Kiesel aufgeführt wird.  Theater macht glücklich! Probier's aus – wir freuen uns auf dich!  Die Anmeldung zur Clubteilnahme ist erforderlich unter Kulturbüro, T: 07541/203-3300 oder kulturbuero@friedrichshafen.de
LOCATION:Kiesel im k42, 88045 Friedrichshafen
END:VEVENT
END:VCALENDAR