BEGIN:VCALENDAR
VERSION:2.0
PRODID:-//TYPO3/WES Cal (wes_cal)//DE
METHOD:PUBLISH
BEGIN:VEVENT
UID:https://www.friedrichshafen.de_32836
DTSTAMP:20260421T105932
DTSTART:20250203T160000
DTEND:20250210T180000
CATEGORIES:Junges Publikum,Workshops & Pädagogische Angebote,Sonstiges,Kinder & Familie
SUMMARY:Jeux Dramatiques 4+
DESCRIPTION:Zweitägiger Theaterworkshop für Kinder von 4 bis 6 Jahre mit ihren Eltern.Leitung: Alexandra Schnee (Theaterpädagogin BuT) Ein Spielerlebnis der besonderen Art! In Jeux Dramatiques entsteht ein geschützter Raum, in dem aus dem Erleben heraus Geschichten gespielt werden. Ganz unmittelbar und ohne nachzudenken, haben Kinder die Möglichkeit, ihre Gefühle und inneren Bilder zum Ausdruck zu bringen. Durch diese einfache theater-pädagogische Methode können bisher verborgene schöpferische Fähigkeiten entdeckt und geweckt werden. Gespielt wird mit dem Ausdruck des eigenen Körpers, ohne Sprache und ohne Zuschauende von außen. Auch die Eltern werden zu Mitspielenden, und der Fantasie sind dabei keine Grenzen gesetzt.\r\nBitte bequeme Kleidung, Turnschläppchen, Getränk und eine kleine Stärkung mitbringen!\r\nTeilnahmegebühr: für ein Kind und ein Elternteil 30 € / mit zwei Kindern 35 €Anmeldungen zu Workshops nimmt das Kulturbüro mit der Angabe des Namens, der Adresse und des Alters entgegen: kulturbuero@friedrichshafen.deFragen und Anregungen rund um Workshops und das Vermittlungsangebot dürfen Sie gerne an Juliane Nagy richten: j.nagy@friedrichshafen.de
LOCATION:Kiesel im k42, 88045 Friedrichshafen
END:VEVENT
END:VCALENDAR