BEGIN:VCALENDAR
VERSION:2.0
PRODID:-//TYPO3/WES Cal (wes_cal)//DE
METHOD:PUBLISH
BEGIN:VEVENT
UID:https://www.friedrichshafen.de_32835
DTSTAMP:20260421T105913
DTSTART:20250113T160000
DTEND:20250127T180000
CATEGORIES:Junges Publikum,Kinder-/Jugendkonzert,Workshops & Pädagogische Angebote,Sonstiges,Kinder & Familie,Musik
SUMMARY:Findet nicht statt: Kommt lasst uns spielen! 6+
DESCRIPTION:Jeux Dramatiques für Grundschulkinder von 6 bis 9 Jahren \r\nLeitung: Alexandra Schnee (Theaterpädagogin) \r\nAn diesen drei Nachmittagen spielen wir gemeinsam Geschichten, in denen ihr eure Lieblingsrolle selbst wählen dürft. Wir verkleiden uns mit Tüchern und gestalten mit einfachen Mitteln den Spielort unserer Geschichte selbst. Ganz ohne Sprache schlüpfen wir in unsere Rollen und gehen auf eine zauberhafte Theaterreise. \r\nBitte bequeme Kleidung, Turnschläppchen, Getränk und eine Stärkung mitbringen!Es findet keine Präsentation im Anschluss statt. Anmeldungen zu Workshops nimmt das Kulturbüro mit der Angabe des Namens, der Adresse und des Alters entgegen: kulturbuero@friedrichshafen.de\r\nFragen und Anregungen rund um Workshops und das Vermittlungsangebot dürfen Sie gerne an Juliane Nagy richten: j.nagy@friedrichshafen.de
LOCATION:Kiesel im k42, 88045 Friedrichshafen
END:VEVENT
END:VCALENDAR