BEGIN:VCALENDAR
VERSION:2.0
PRODID:-//TYPO3/WES Cal (wes_cal)//DE
METHOD:PUBLISH
BEGIN:VEVENT
UID:https://www.friedrichshafen.de_20139
DTSTAMP:20260420T103726
DTSTART:20220119T180000
CATEGORIES:Schauspiel,Theater,Schauspiel & Theater
SUMMARY:the perfect match
DESCRIPTION:Eine Performance von KimchiBrot Connection Koproduktion mit der studiobühneköln  Die KimchiBrot Connection aus Köln ist ein Zusammenschluss junger Absolventen des in Deutschland einzigartigen Studiengangs Physical Theatre an der Folkwang Universität der Künste in Essen. In ihrer neuen Produktion the perfect match geht es um das Thema Künstliche Intelligenz. Ebenso ernsthaft wie humorvoll und mit vollem Körpereinsatz nimmt das Ensemble das Phänomen Alexa auf die Schippe. Alexa, den sprachgesteuerten Lautsprecher, gibt es in dieser Inszenierung erstmals „mit Body“. Der Computer merkt sich nicht nur Einkaufslisten – nein, er kann gleich selbst einkaufen gehen und notfalls sogar kochen. Was zunächst äußerst praktisch erscheint, erzeugt nach und nach eine Gänsehaut. Was gibt der Mensch zugunsten seiner Bequemlichkeit auf?  the perfect match wurde für den Kölner Theaterpreis 2019 und den KunstSalon Theaterpreis 2019 nominiert.  Dauer: 50 Minuten, keine Pause  Im Rahmen der Reihe HAPPY HOUR
LOCATION:Bahnhof Fischbach, 88048 Friedrichshafen
END:VEVENT
END:VCALENDAR