BEGIN:VCALENDAR
VERSION:2.0
PRODID:-//TYPO3/WES Cal (wes_cal)//DE
METHOD:PUBLISH
BEGIN:VEVENT
UID:https://www.friedrichshafen.de_28110
DTSTAMP:20260421T134201
DTSTART:20230722T190000
CATEGORIES:Konzerte Stadtorchester,Konzert,Musik,Sommer,Musik
SUMMARY:Summer Winds – Stadtorchester Friedrichshafen
DESCRIPTION:Die Picknick-Konzerte des Stadtorchesters sind inzwischen Kult – denn bei entsprechendem Wetter passt hier einfach alles: Ambiente, Kulisse, Stimmung und natürlich die Musik.\r\nIn diesem Jahr steht alles unter dem Motto Broadway – alle bekannten Hits aus den erfolgreichsten Broadwaymusicals werden in diesem Konzert zu hören sein. Beginnen wird das Konzert mit einem der berühmtesten Komponisten am Broadway: Leonard Bernstein. Neben sämtlichen Titeln aus seiner West Side Story wird auch sein berühmtes Orchester-Divertimento zu hören sein. Beliebte Melodien aus Les Misérables und Anatevka runden den Konzertteil ab.\r\nNach einer kurzen Pause wird die Maria Helgath, München, mit dem Stadtorchester gemeinsam auftreten und dabei Titel aus My Fair Lady, dem Musical Elisabeth und Porgy and Bess präsentieren. Natürlich darf dabei auch der Klassiker Memory aus dem Musical Cats nicht fehlen! Die ursprünglich angekündigte Schweizer Sopranistin Alexa Vogel musste leider absagen.\r\nEs gibt einen Getränkeverkauf. Bei schlechtem Wetter findet das Konzert im Foyer des Graf-Zeppelin-Hauses statt.
LOCATION:Wiese beim Graf-Zeppelin-Haus, 88045 Friedrichshafen
END:VEVENT
END:VCALENDAR