BEGIN:VCALENDAR
VERSION:2.0
PRODID:-//TYPO3/WES Cal (wes_cal)//DE
METHOD:PUBLISH
BEGIN:VEVENT
UID:https://www.friedrichshafen.de_4458
DTSTAMP:20260420T102501
DTSTART:20211112T200000
CATEGORIES:Kabarett & Comedy,Kabarett & Comedy
SUMMARY:„Starbugs Comedy“: Crash Boom Bang
DESCRIPTION:Starbugs Comedy sind die Überflieger der Schweizer Show-Szene. Wo auch immer die drei Berner mit ihrer Mischung aus Slapstick, Akrobatik, Pantomime und Clownerie auftreten, sorgen sie für ein begeistertes Publikum. Mit ihrem bereits mehrfach ausgezeichneten Programm Crash Boom Bang bieten Fabian Berger, Martin Burtscher und Wassilis Reigel einen kabarettistischen und artistischen Parforceritt voller Esprit und Leichtigkeit.  Dauer: ca. 95 Minuten, zzgl. Pause
LOCATION:Bahnhof Fischbach, 88048 Friedrichshafen
END:VEVENT
END:VCALENDAR