BEGIN:VCALENDAR
VERSION:2.0
PRODID:-//TYPO3/WES Cal (wes_cal)//DE
METHOD:PUBLISH
BEGIN:VEVENT
UID:https://www.friedrichshafen.de_33714
DTSTAMP:20260421T121928
DTSTART:20241208T170000
CATEGORIES:Musik,Konzert,Konzerte Stadtorchester,Themenführungen,Musik,Führungen
SUMMARY:Stadtorchester Friedrichshafen – Benefizkonzert
DESCRIPTION:Nikolai Geršak Orgel Pietro Sarno LeitungAuch in diesem Jahr freuen wir uns besonders, Sie zu einer besinnlichen Stunde mit adventlicher Musik in die Kirche St. Nikolaus einzuladen. Neben stimmungsvoller Musik von Barock bis zur Moderne und traditionellen Adventsliedern, widmen wir uns in diesem Jahr besonders den Adventstraditionen anderer Länder wie England, Rumänien oder Italien. Wir freuen uns besonders, dass Nikolai Geršak als Organist an diesem Konzert teilnimmt.\r\nDer Eintritt ist frei und alle Spenden kommen einem gemeinnützigen Zweck zu Gute.
LOCATION:St. Nikolaus – Stadt, 88045 Friedrichshafen
END:VEVENT
END:VCALENDAR