BEGIN:VCALENDAR
VERSION:2.0
PRODID:-//TYPO3/WES Cal (wes_cal)//DE
METHOD:PUBLISH
BEGIN:VEVENT
UID:https://www.friedrichshafen.de_20212
DTSTAMP:20260420T120152
DTSTART:20211113T200000
CATEGORIES:Konzerte Stadtorchester,Konzert,Musik,Musik
SUMMARY:Entertaining Winds – Stadtorchester Friedrichshafen
DESCRIPTION:Daniel Schnappauf Bassposaune Johann Wolpold Leitung\r\nP. I. Tschaikowsky: Slawischer Marsch op. 31 (Arr.: Victor Hudoley) Jan Van der Roost: Balkanya Dmitri Kabalewski: Ouvertüre zu „Colas Breugnon“ (Arr.: Donald Hunsberger) Derek Bourgeois: Concerto for Bass Trombone and Band op. 239 Dmitri Schostakowitsch: Jazz Suite Nr. 2 (Arr.: Johan de Meij)\r\nEinst war er selbst Mitglied im Stadtorchester Friedrichshafen, der Trompeter Johann Wolpold. Jetzt leitet er es als Gastdirigent im Rahmen seiner Abschlussprüfung im Masterstudiengang „Blasorchesterleitung“ – ein Novum, sicher ein spannendes. Das Programm spannt den Bogen vom ernsten Marsch über heitere Klänge bis hin zum Jazz. Als Solist ist der Bassposaunist Daniel Schnappauf in einem Konzert von D. Bourgeois zu erleben.
LOCATION:Graf-Zeppelin-Haus, 88045 Friedrichshafen
END:VEVENT
END:VCALENDAR