BEGIN:VCALENDAR
VERSION:2.0
PRODID:-//TYPO3/WES Cal (wes_cal)//DE
METHOD:PUBLISH
BEGIN:VEVENT
UID:https://www.friedrichshafen.de_33545
DTSTAMP:20260421T104335
DTSTART:20250218T190000
CATEGORIES:Tanz,Tanz
SUMMARY:Spectacular Failures - performing:group
DESCRIPTION:Ein Tanz-Triptychon \nJulia Mota Carvalho: Künstlerische Leitung\nIm Sog der „Null-Fehler-Toleranz“ unserer Gesellschaft kreiert performing:group ein gnadenloses Spektakel des Schneller-Höher-Weiter-Prinzips im Ringen um die Aufmerksamkeit des Publikums. Vier Tänzerinnen und Tänzer probieren ständig neue Szenen und Choreograﬁen auf der Bühne. Nicht zu scheitern ist keine Option. \nVon performing:group in Koproduktion mit tanzhaus nrw, COMEDIA Theater und Theater FELD\nDauer: 1 Stunde \nBild: Christopher Horne
LOCATION:Kiesel im k42, 88045 Friedrichshafen
END:VEVENT
END:VCALENDAR