BEGIN:VCALENDAR
VERSION:2.0
PRODID:-//TYPO3/WES Cal (wes_cal)//DE
METHOD:PUBLISH
BEGIN:VEVENT
UID:https://www.friedrichshafen.de_19200
DTSTAMP:20260420T132633
DTSTART:20211127T193000
CATEGORIES:Tanz,Tanz,Tanz
SUMMARY:São Paulo Dance Company
DESCRIPTION:Inês Bogéa Künstlerische Leitung\r\nAnthem von Goyo Montero / Musik: Owen Belton Agora von Cassi Abranches / Musik: Sebastian Piraces Ngali von Jomar Mesquita / Musik: Collage\r\nIm Januar 2008 wurde die São Paulo Dance Company (SPDC) vom Kulturministerium des brasilianischen Bundesstaats São Paulo gegründet und hat sich rasch einen festen Platz in der internationalen Tanzwelt erobert. Sie zählt heute zu den besten Tanzgruppen Lateinamerikas. Das Repertoire der von Inês Bogéa geleiteten Compagnie umfasst sowohl klassische als auch moderne Werke, die teilweise für sie kreiert wurden. Vielseitig und ausdrucksstark verkörpert die SPDC die pulsierende Lebensfreude ihrer Heimat, dabei pflegt sie gleichermaßen ihr brasilianisches Erbe wie auch die Einflüsse der Moderne.\r\nMit einem abwechslungsreichen Triple Bill präsentiert sich die Truppe erneut in Friedrichshafen. Anthem stammt von dem mit Preisen ausgezeichneten spanischen Choreografen Goyo Montero. Agora, das dritte Auftragswerk der jungen brasilianischen Choreografin Cassi Abranches für die SPDC, widmet sich sehr dynamisch dem Thema „Zeit“. In Ngali greift der Choreograf Jomar Mesquita Arthur Schnitzlers Reigen auf.\r\nDauer: ca. 1 Stunde 30 Minuten, zzgl. Pausen  Abonnement „Ballett“
LOCATION:Graf-Zeppelin-Haus, 88045 Friedrichshafen
END:VEVENT
END:VCALENDAR