BEGIN:VCALENDAR
VERSION:2.0
PRODID:-//TYPO3/WES Cal (wes_cal)//DE
METHOD:PUBLISH
BEGIN:VEVENT
UID:https://www.friedrichshafen.de_33487
DTSTAMP:20260421T121952
DTSTART:20241124T170000
CATEGORIES:Konzert,Musik
SUMMARY:Philharmonischer Chor Friedrichshafen - Märchen und Mythen
DESCRIPTION:Märchen und Mythen\nSüdwestdeutsche Philharmonie Konstanz / Neu: Bodensee PhilharmonieMännerchor Bad Saulgau\nJoachim Trost: Musikalische LeitungJudith Spießer: Sopran / Josy Santos: Mezzosopran / Martin Platz: Tenor / Christian Wagner: Bariton / Mirjam von Kirschten: Klavier\nHinweis: Für den erkrankten Tenor Lucian Krasznec springt am Sonntag Martin Platz ein.\nFelix Mendelssohn Bartholdy: Ein Sommernachtstraum op. 21 (Auszüge)Ludwig van Beethoven: Fantasie für Klavier, Chor und Orchester c-Moll op. 80 „Chorfantasie“Modest Petrowitsch Mussorgski: Eine Nacht auf dem kahlen Berge; Sinfonische DichtungFelix Mendelssohn Bartholdy: Die erste Walpurgisnacht op. 60  für Soli, Chor und Orchester \nEs liegt ein Zauber über der Welt. Zumindest an diesem Abend und an diesem Ort. Feen, Gespenster, Hexen und all die anderen Bewohner der Nacht geben sich ein musikalisches Stelldichein – insbesondere im Hauptwerk des Abends, in Mendelssohns „Walpurgisnacht“. Mendelssohn komponierte sie 1830 nach einem Aufenthalt bei Goethe in Weimar. Als er sich im Anschluss auf Reisen begab, hatte er neben dessen „Italienische Reise“ auch die Ballade „Die erste Walpurgisnacht“ im Gepäck. Der Dichterfürst war nämlich davon überzeugt, dass diese als Chorkantate vertont werden müsse. Heute gilt das Werk als die bedeutendste weltliche Kantate im 19. Jahrhundert.\nDass der Philharmonische Chor Friedrichshafen dieses Werk bravourös zum Klingen bringt, steht außer Frage: In den letzten Jahrzehnten hat der Chor nahezu alle bedeutenden oratorischen Werke zur Aufführung gebracht und sich damit weit über die Region hinaus einen Namen gemacht. Gäste des Abends sind gewohnt vielversprechende Solisten, die Südwestdeutschen Philharmonie Konstanz sowie der Männerchor Bad Saulgau. Die Gesamtleitung des Konzerts liegt bei Joachim Trost.\nBild: Joachim Naas
LOCATION:Graf-Zeppelin-Haus, 88045 Friedrichshafen
END:VEVENT
END:VCALENDAR