BEGIN:VCALENDAR
VERSION:2.0
PRODID:-//TYPO3/WES Cal (wes_cal)//DE
METHOD:PUBLISH
BEGIN:VEVENT
UID:https://www.friedrichshafen.de_33434
DTSTAMP:20260421T121901
DTSTART:20240915T203000
CATEGORIES:Konzert,Orgelherbst,Herbst,Musik
SUMMARY:Orgelherbst 2024: Orgel und Orchester
DESCRIPTION:Stina Strehar, OrgelNikolai Geršak, LeitungKarten gibt es an der Abendkasse. 
LOCATION:St. Nikolaus – Stadt, 88045 Friedrichshafen
END:VEVENT
END:VCALENDAR