BEGIN:VCALENDAR
VERSION:2.0
PRODID:-//TYPO3/WES Cal (wes_cal)//DE
METHOD:PUBLISH
BEGIN:VEVENT
UID:https://www.friedrichshafen.de_20317
DTSTAMP:20260422T121503
DTSTART:20210926T200000
CATEGORIES:Konzert,Musik,Musik
SUMMARY:Orgelherbst 2021: Thomas Dahl (Hamburg)
DESCRIPTION:A. Guilmant, C. Franck und M. Dupré  Die Gesamtkirchengemeinde Friedrichshafen und das Kulturbüro Friedrichshafen veranstalten in der Nikolauskirche den Orgelherbst. In vier Konzerten präsentieren Künstler aus Europa an der Woehl-Orgel ein interessantes und vielfältiges Programm, das dieses Jahr neben einem reinen Bach-Abend hauptsächlich von der französischen Symphonik geprägt ist.  Zum Abschluss des Orgelherbsts ist Thomas Dahl, Kirchenmusikdirektor an der Hauptkirche St. Petri in Hamburg, zu Gast. Der brillante Organist interpretiert die 2. Sonate von Alexandre Guilmant, César Francks Pastorale und „Symphonie Passion“ von Marcel Dupré. Thomas Dahl konzertiert weltweit und leitet ein hochwertiges Musikprogramm an einer der bedeutendsten Kirchen der großen Hansestadt.  Alle Konzerte finden in der Nikolauskirche (Innenstadt) um 20.00 Uhr statt. Karten zu 8 € und ermäßigt 6€ gibt es jeweils eine halbe Stunde vor Konzertbeginn an der Abendkasse!
LOCATION:St. Nikolaus – Stadt, 88045 Friedrichshafen
END:VEVENT
END:VCALENDAR