BEGIN:VCALENDAR
VERSION:2.0
PRODID:-//TYPO3/WES Cal (wes_cal)//DE
METHOD:PUBLISH
BEGIN:VEVENT
UID:https://www.friedrichshafen.de_34134
DTSTAMP:20260421T122057
DTSTART:20241125T193000
CATEGORIES:Ausstellungen & Vorträge,Literatur,Lesung,Ausstellungen & Vorträge,Gleichstellung,Bürger & Politik
SUMMARY:Orange Days: Lesung mit Lana Lux mit dem Titel „Geordnete Verhältnisse“
DESCRIPTION:Den Auftakt der Orange Days in Friedrichshafen macht am Montag, 25. November eine Lesung mit Lana Lux mit dem Titel „Geordnete Verhältnisse“. Eine Geschichte über eine toxische Beziehung, die diese aus der Sicht des Opfers und Täters erzählt. Beginn ist um 19.30 Uhr im Kiesel im k42, Karlstraße 42. Der Eintritt kostet elf Euro inklusiv einem Getränk. Die Karten sind an der Abendkasse erhältlich oder können unter www.kulturbuero.friedrichshafen.de angefordert werden. \r\nOrganisiert wird die Lesung vom Kulturbüro Friedrichshafen in Kooperation mit Julia Porsche, Gleichstellungsbeauftragte der Stadt Friedrichshafen. Im Anschluss an die Lesung gibt es die Möglichkeit den Abend bei Raum e. V., Buchhornplatz 6, ausklingen lassen. 
LOCATION:Kiesel im k42, 88045 Friedrichshafen
END:VEVENT
END:VCALENDAR