BEGIN:VCALENDAR
VERSION:2.0
PRODID:-//TYPO3/WES Cal (wes_cal)//DE
METHOD:PUBLISH
BEGIN:VEVENT
UID:https://www.friedrichshafen.de_21000
DTSTAMP:20260420T132150
DTSTART:20220407T190000
CATEGORIES:Lesung,Sonstige,Führungen,Themenführungen,Literatur,Sonstiges,Literatur,Führungen,Sonstiges
SUMMARY:Open House! LIT-WALK
DESCRIPTION:Eine Kooperation des Zeppelin Museums mit dem Kulturbüro Friedrichshafen\r\nKurzführung zu Prosa und Lyrik der Ausstellung Beziehungsstatus: Offen. Kunst und Literatur am Bodensee mit anschließender Lesung im Kiesel im K42 mit der Schauspielerin Dorothea Neukirchen und dem Schauspieler Tomasz Robak.  Der Eine langweilte sich, der Andere vergnügte sich, die Nächste fand im See die eigene Seele wieder. Ob Annette von Droste-Hülshoff, Hermann Hesse und Hans Purrmann, Martin Walser und André Ficus oder Henry van de Velde und René Schickele: Zahlreiche Künstlerinnen und Künstler und Schriftstellerinnen und Schriftsteller, die am Bodensee lebten, pflegten enge Verbindungen. An drei Abenden bietet das Zeppelin Museum Kurzführungen durch die interdisziplinäre Ausstellung an und nimmt dabei prosaische und lyrische Texte über den Bodensee in den Blick. Anschließend lesen eine Schauspielerin und ein Schauspieler Auszüge im Kiesel.\r\nDorothea Neukirchen ist Autorin, Schauspielerin und Sprecherin und lebt seit vielen Jahren am Bodensee. Der gebürtige Konstanzer Tomasz Robak war bis 2020 im Ensemble des Theater Konstanz engagiert. Zuletzt spielte er im mehrfach prämierten Kinofilm »Coup« eine Hauptrolle.
LOCATION:Zeppelin Museum, 88045 Friedrichshafen
END:VEVENT
END:VCALENDAR