BEGIN:VCALENDAR
VERSION:2.0
PRODID:-//TYPO3/WES Cal (wes_cal)//DE
METHOD:PUBLISH
BEGIN:VEVENT
UID:https://www.friedrichshafen.de_20751
DTSTAMP:20260420T132653
DTSTART:20211014T180000
CATEGORIES:Sonstige,Sonstiges,Sonstiges
SUMMARY:Onlinediskurs über die nachhaltige Kulturarbeit
DESCRIPTION:Als Ergebnis eines gemeinsamen Antrags der Fraktionen der Grünen, SPD/Linke, Netzwerk für Friedrichshafen und ÖDP/parteilos im Gemeinderat plant die Stadtverwaltung eine große Veranstaltung für die unter der Corona-Pandemie leidende Veranstaltungsbranche. Unter dem Titel „Zukunftscamp“ soll am 18. November im Jugend- und Kulturzentrum MOLKE ein Zeichen für die Branche in und um Friedrichshafen gesetzt werden.\r\nTeil des Konzeptes ist auch ein kulturpolitischer Diskurs zu zukunftsrelevanten Fragen für die Kulturarbeit in Friedrichshafen. Unter der Federführung des Kulturbüros macht sich die Stadt nun auf, in drei Onlineveranstaltungen konkrete Themen zu diskutieren: Jugendarbeit, Identität und Teilhabe sowie kulturelle Nachhaltigkeit. Die Ergebnisse werden im Rahmen des „Zukunftscamps“ am präsentiert.\r\nBereits im Juli wurde das Thema Kooperationen in der Jugendarbeit behandelt, im September ging es um kulturelle Identität und Teilhabe. Am 14. Oktober um 18 Uhr wird es um nachhaltige Kulturarbeit gehen. Beleuchtet wird dabei sowohl die ökologische Nachhaltigkeit als auch Aspekte, wie Kultur sich transformieren muss, damit sie nachhaltig in einer Gesellschaft wirken kann.\r\nFür einen Impuls konnte Kristina Gruber gewonnen werden. Sie ist Geographin und Nachhaltigkeitswissenschaftlerin. Als Teil der Projektschmiede für Nachhaltigkeit & Transformation liegen ihre Arbeits- und Forschungsschwerpunkte an den Schnittstellen Nachhaltigkeit & (Sozio-) Kultur sowie Nachhaltigkeit, Digitalisierung & Landwirtschaft. Zuletzt war sie wissenschaftliche Mitarbeiterin am Institut für Kulturpolitik der Universität Hildesheim und Co-Projektleiterin des Forschungsprojektes JetztInZukunft. Zuvor hat sie mit dem Verein 2N2K soziokulturelle Zentren bei der Umsetzung klimafreundlicher Veranstaltungen begleitet und beraten.\r\nDie Veranstaltung findet online über zoom statt. Teilnehmen können alle Interessierten Bürgerinnen und Bürger über untenstehende Einwahldaten:  https://us02web.zoom.us/j/89732243557?pwd=bkJIaWp0NnRLZmZrWnJ1R3h6bVhMZz09\r\nMeeting-ID: 897 3224 3557 Kenncode: 079670
LOCATION:Zuhause / Online, 0 
END:VEVENT
END:VCALENDAR