BEGIN:VCALENDAR
VERSION:2.0
PRODID:-//TYPO3/WES Cal (wes_cal)//DE
METHOD:PUBLISH
BEGIN:VEVENT
UID:https://www.friedrichshafen.de_18843
DTSTAMP:20260420T132401
DTSTART:20211010T170000
CATEGORIES:Tanz,Tanz,Tanz
SUMMARY:Nederlands Dans Theater 
DESCRIPTION:NDT 2  Künstlerische Leitung NDT: Emily Molnar\r\nThe Big Crying von Marco Goecke / Musik: Collage Impasse von Johan Inger / Musik: Collage\r\nDas NDT 2 wurde 1978 mit der Idee gegründet, hier auf höchstem Niveau den künstlerischen Nachwuchs des NDT 1 auszubilden. Inzwischen ist das NDT 2 eine weltweit beachtete Compagnie aus klassisch ausgebildeten Mitgliedern, die sich jährlich mit zwei Programmen auf den internationalen Bühnen – von Norwegen bis Neuseeland, von den USA bis Süd-Korea, von den Niederländischen Antillen bis Russland – präsentiert.\r\nMit Werken von Marco Goecke und Johan Inger, beide dem NDT verbunden, beide vielfach ausgezeichnet, kommt die Truppe nach Friedrichshafen. The Big Crying von Marco Goecke ist ein sehr persönliches Werk, entstanden nach dem Tod von Goeckes Vater; ein Stück über Trennung, in der für Goecke charakteristischen avantgardistischen Tanzsprache. Impasse von Johan Inger thematisiert mit viel Verve und spannenden Bildern den schmalen Grat zwischen Selbstverlust in der Angepasstheit und Stärke in der Gruppe.\r\nDauer: ca. 1 Stunde, zzgl. Pause  Abonnement "Samstag-/Sonntagnachmittag"
LOCATION:Graf-Zeppelin-Haus, 88045 Friedrichshafen
END:VEVENT
END:VCALENDAR