BEGIN:VCALENDAR
VERSION:2.0
PRODID:-//TYPO3/WES Cal (wes_cal)//DE
METHOD:PUBLISH
BEGIN:VEVENT
UID:https://www.friedrichshafen.de_20122
DTSTAMP:20260420T120309
DTSTART:20211028T200000
CATEGORIES:Schauspiel,Theater,Schauspiel & Theater
SUMMARY:Macbeth für Anfänger
DESCRIPTION:Macbeth all’improvviso von Gigio Brunello und Gyula Molnàr Theater Thalias Kompagnons  Ein ehrgeiziger Puppenspieler plant eine Aufführung von Shakespeares Macbeth. Als seine alten Kasperpuppen jedoch erfahren, dass sie nicht mitspielen dürfen, kommt es zum Aufstand: Hinter dem Rücken des Puppenspielers beginnt das Ensemble auf eigenes Risiko mit der Tragödie. Doch schon bald geraten die unschuldigen „Anfänger“ in den verhängnisvollen Sog der Shakespeare‘schen Dramaturgie. Und unbarmherzig erfüllt sich an ihnen das Schicksal des Macbeth ...  Diese Inszenierung wurde zu zahlreichen internationalen Figurentheaterfestivals eingeladen.  Dauer: ca. 70 Minuten, keine Pause  „Ein brillanter Theaterspaß, in dem derbe Volkstheater-Komik und die Shakespeare’sche Tragödie zu einer anarchischen Einheit verschmelzen.“ (Die deutsche Bühne) Und: „Ein Theatervergnügen allerersten Ranges! Klug gedacht, raffiniert gemacht, temporeich und witzig. Und eine wahrhaft ‚werktreue’ Inszenierung, die die blutige Mechanik des ‚Macbeth’ in all ihrer Konsequenz und Unausweichlichkeit durchspielt. Wo dieses Drama tobt, da wächst kein Gras mehr.“ (double – Magazin für Figurentheater)
LOCATION:Kiesel im k42, 88045 Friedrichshafen
END:VEVENT
END:VCALENDAR