BEGIN:VCALENDAR
VERSION:2.0
PRODID:-//TYPO3/WES Cal (wes_cal)//DE
METHOD:PUBLISH
BEGIN:VEVENT
UID:https://www.friedrichshafen.de_33512
DTSTAMP:20260421T105750
DTSTART:20250109T193000
CATEGORIES:Konzert,Winter,Musik
SUMMARY:Les Vents Francais
DESCRIPTION:Emmanuel Pahud, FlöteFrancois Leleux, OboePaul Meyer, KlarinetteGilbert Audin, FagottRadovan Vlatković, HornÉric Le Sage, Klavier\nLudwig van Beethoven: Quintett für Klavier und Bläser Es-Dur op. 16   Giuseppe Verdi: Bläserquintett e-Moll (Transkription des Streichquartetts)André Caplet: Quintett für Klavier, Flöte, Oboe, Klarinette und Fagott  op. 8 Francis Poulenc: Sextett für Klavier und Bläser C-Dur op. 100\nDie Besetzungsliste des Ensembles Les Vents Français liest sich wie das „Who’s who“ der internationalen Bläserszene: Mit Emmanuel Pahud, Francois Leleux, Paul Meyer, François Leleux, Gilbert Audin und Radovan Vlatkovic, haben sich fünf absolute Koryphäen ihres Instruments zu einem grandiosen Solistenensemble zusammengefunden. Zu ihnen gesellt sich für diesen Abend Pianist Éric Le Sage, der für die Poesie und Empfindsamkeit seines Spiels gerühmt wird.\n„Französisch“ nennt sich dieses Bläserensemble nicht nur, weil es sich fast ausschließlich aus französischen Musikern zusammensetzt, sondern weil es sich auch mit besonderer Verve der Musik französischer Komponisten widmet. In diesem Sinne arbeitet Les Vents Français kontinuierlich daran, das Repertoire für Bläser zu erweitern, indem sie zahlreiche Werke zeitgenössischer Komponisten zur Uraufführung bringen. \nBei Warner Classics sind bereits sieben hochgelobte Alben erschienen, und die Fachpresse überschlägt sich. So zeichnete u. a. die britische Zeitschrift Gramophon das Ensemble mit seiner Editor’s Choice aus: „Das ist definitiv ein Dreamteam, das nicht nur den individuellen Geist der Musik einfängt, sondern dies offenkundig auch mit großem Vergnügen tut.“\nBild: WILDUNDLEISE
LOCATION:Graf-Zeppelin-Haus, 88045 Friedrichshafen
END:VEVENT
END:VCALENDAR