BEGIN:VCALENDAR
VERSION:2.0
PRODID:-//TYPO3/WES Cal (wes_cal)//DE
METHOD:PUBLISH
BEGIN:VEVENT
UID:https://www.friedrichshafen.de_20256
DTSTAMP:20260420T120439
DTSTART:20211003T180000
CATEGORIES:Film & Hörspiel,Konzert,Sonstige,Musik,Musik,Sonstiges,Kino
SUMMARY:Kultur im Hafen
DESCRIPTION:Mit Künstlerinnen und Künstlern aus Friedrichshafen und der Region  Maria Hegele Sopran Adriana Lang Singer-Songwriter Paul Frey Gesang Franziska Broschek Tanz Alain Wozniak Querflöte & Peter Bácsi Gitarre Maja Knezevic Violine & Guranda Gabelaia Klavier Mitglieder der Theaterspielclubs Zirkusakademie ensemble minifaktur, Pietro Sarno Leitung Chöre & Orchester „virtuell“  Seit mehr als einem Jahr hat die Pandemie die Kulturbranche fest im Griff. Die Kultur wird schmerzlich vermisst, die vergangenen Monate waren entbehrungsreich und anstrengend für alle Bürgerinnen und Bürger. Wir alle hoffen darauf, dass es dank Impfkampagne und Teststrategien im Herbst 2021 wieder aufwärtsgeht. Dieser Moment muss gefeiert werden!\r\nDas Kulturbüro möchte daher mit einer ganzen besonderen Veranstaltung unter der Schirmherrschaft von Oberbürgermeister Andreas Brand in die kulturelle Saison starten, gemeinsam mit zahlreichen Künstlerinnen und Künstlern aus Friedrichshafen und der Region. Wir wollen zeigen, dass die Kultur trotz bzw. nach der Pandemie präsent ist. Wir wollen die Vielfalt und den kulturellen Reichtum der Stadt betonen. Gleichzeitig ist mit diesem Event ein herzlicher Dank an alle Bürgerinnen und Bürger, Mitarbeiter der Stadt, Pflegekräfte etc. verbunden: für das Durchhalten, für den Zusammenhalt, für alles, was uns in den vergangenen Monaten durch die Krise geholfen hat.\r\nDie Veranstaltung wird live gesendet von Regio TV. https://www.regio-tv.de/live-tv/
LOCATION:Graf-Zeppelin-Haus, 88045 Friedrichshafen
END:VEVENT
END:VCALENDAR