BEGIN:VCALENDAR
VERSION:2.0
PRODID:-//TYPO3/WES Cal (wes_cal)//DE
METHOD:PUBLISH
BEGIN:VEVENT
UID:https://www.friedrichshafen.de_20211
DTSTAMP:20260420T102813
DTSTART:20211104T200000
CATEGORIES:Konzert,Musik,Musik
SUMMARY:Klavierduo Tal & Groethuysen – Sergey Malov, Violine – Raphaela Gromes, Violoncello
DESCRIPTION:Sinfonien großer Meister in kammermusikalischer Besetzung\r\nFelix Mendelssohn Bartholdy: Sinfonie Nr. 1 c-Moll op. 11 (Fassung des Komponisten) Franz Schubert: Sinfonie Nr. 7 h-Moll D 759 „Unvollendete“ Ludwig van Beethoven: Sinfonie Nr. 5 c-Moll op. 67\r\nDie israelische Pianistin Yaara Tal und ihr deutscher Partner Andreas Groethuysen, eines der weltweit führenden Klavierduos, überraschen regelmäßig mit kreativen Programmen. Dieses Mal präsentieren sie kammermusikalische Fassungen von Sinfonien gemeinsam mit dem russischen Geiger Sergey Malov und der jungen Cellistin Raphaela Gromes.\r\nSergey Malov gilt als ebenso vielseitig und experimentierfreudig wie virtuos: Er spielt Violine, Viola, Barockvioline und Violoncello da spalla, sein Repertoire reicht vom Frühbarock bis in die Gegenwart. Mitreißende Spielfreude und Virtuosität sind Qualitäten, für die die junge, vielfach ausgezeichnete Cellistin Raphaela Gromes gerühmt wird. Mit Einladungen zu renommierten Festivals und Orchestern in Europa hat sie sich ihren Platz in der Klassikszene erobert. Eine aufregende Besetzung für ein erfrischend neues Hörerlebnis.  Tal & Groethuysen, Raphaela Gromes, Sergey Malov: Ausschnitt aus der „Unvollendeten“ – Schubertiade  Abonnement „Internationale Kammerkonzerte“
LOCATION:Graf-Zeppelin-Haus, 88045 Friedrichshafen
END:VEVENT
END:VCALENDAR