BEGIN:VCALENDAR
VERSION:2.0
PRODID:-//TYPO3/WES Cal (wes_cal)//DE
METHOD:PUBLISH
BEGIN:VEVENT
UID:https://www.friedrichshafen.de_19208
DTSTAMP:20260422T104636
DTSTART:20210930T200000
CATEGORIES:Veranstaltungs-Kategorien,Konzert,Musik,Musik
SUMMARY:Junge Deutsche Philharmonie
DESCRIPTION:Kit Armstrong KlavierAndré de Ridder Leitung\r\nRobert Schumann: Sinfonie Nr. 4 d-Moll op. 120 (Originalfassung von 1841)W.A. Mozart: Klavierkonzert Nr. 22 Es-Dur KV 482Bryce Dessner / Woodkid: Three Hundred and TwentyNicole Lizée: 8-Bit Noir\r\nSie nennt sich „Zukunftsorchester“, die Junge Deutsche Philharmonie, die sich aus hervorragenden Studierenden deutschsprachiger Musikhochschulen zwischen 18 und 28 Jahren zusammensetzt. Mit Herzblut und höchsten künstlerischen Ansprüchen, kreativ und lebendig widmet sich das Orchester nicht nur der Standardliteratur, sondern insbesondere der zeitgenössischen Musik und experimentellen Konzertformaten. Das Orchester tourt weltweit in die renommierten Konzertsäle und ist in regelmäßiger Zusammenarbeit u. a. mit den Berliner Philharmonikern und den Bamberger Symphonikern verbunden. In Friedrichshafen wird es von André de Ridder geleitet, einem international gefragten Künstler, der sich durch seine breit gefächerte stilistische Versiertheit auszeichnet.\r\nSolist des Abends ist Kit Armstrong. Der 1992 in den USA geborene phänomenale Pianist, Organist, Komponist und Dirigent begeistert seit frühester Jugend das Publikum in Sälen wie dem Musikverein Wien, Concertgebouw Amsterdam, der Philharmonie Berlin, der Hamburger Elbphilharmonie, der NHK Hall Tokio oder dem Palais des Beaux‐Arts Brüssel.\r\nEinführung:vhs-FN, DI 28.09., 19:00 – 21:15, Dr. Joachim Landkammer (Zeppelin Universität) / Kursnr.: IB450 → hier geht's zum Link\r\nDer Einzelkartenverkauf startet am 15.09.21Abonnement "Sinfoniekonzerte"
LOCATION:Graf-Zeppelin-Haus, 88045 Friedrichshafen
END:VEVENT
END:VCALENDAR