BEGIN:VCALENDAR
VERSION:2.0
PRODID:-//TYPO3/WES Cal (wes_cal)//DE
METHOD:PUBLISH
BEGIN:VEVENT
UID:https://www.friedrichshafen.de_20140
DTSTAMP:20260422T103504
DTSTART:20220121T200000
CATEGORIES:Kabarett & Comedy,Schauspiel,Kabarett & Comedy,Theater,Schauspiel & Theater,Kabarett & Comedy
SUMMARY:Jenseitig
DESCRIPTION:Erlesene Komik Duo OHNE ROLF\r\nEine simple Idee genial umgesetzt: Sprechen heißt bei OHNE ROLF Blättern.\r\nWas macht das Leben lesenswert? Gibt es ein Nachwort, wenn die Tinte ausgeht? Können bedruckende Erinnerungen verblas­sen? In seinem neusten Stück Jenseitig nimmt sich das mehr­fach preisgekrönte Duo OHNE ROLF der großen Fragen an. Mit originellen Plakaten verwandelt es urmenschliche Themen in leichtgeblätterte, absurde Komik. Ein überraschender Balanceakt zwischen Diesseits und Jenseits.\r\nDauer: 90 Minuten, zzgl. Pause
LOCATION:Kiesel im k42, 88045 Friedrichshafen
END:VEVENT
END:VCALENDAR