BEGIN:VCALENDAR
VERSION:2.0
PRODID:-//TYPO3/WES Cal (wes_cal)//DE
METHOD:PUBLISH
BEGIN:VEVENT
UID:https://www.friedrichshafen.de_33522
DTSTAMP:20260421T105710
DTSTART:20250118T110000
CATEGORIES:Kinder & Familie,Schauspiel & Theater,Junges Publikum,Kinder-/Jugendtheater
SUMMARY:Jazz für Räuber oder Gretels großer Auftritt (3+)
DESCRIPTION:Theater Mummpitz\nZeitloses Kasperltheater mit einem gehörigen Maß an Anarchie\nAndrea Maria Erl: RegieDorothee Löffler: Puppenbau\nMit Panja-Kristin Rittweger, Gabriel Drempetic, Peter Pelzner, Ferdinand Roscher, Simon Froschauer\nWas für ein Spektakel: König Semmelwurst der Erste lädt zur Aufführung einer abenteuerlichen Geschichte über den gefährlichsten Räuber aller Zeiten! Selbstverständlich brennen Kasper, Seppl und auch Gretel darauf, in dem Stück mitzuspielen. Doch es kommt, wie es kommen muss: Für Gretel ist in der Geschichte kein Platz, sie spielt wortwörtlich einfach keine Rolle! Aber einfach nur zuzuschauen, kommt für die selbstbewusste Gretel nicht in Frage. Also schafft sie sich kurzerhand selbst eine Rolle. Und schon entspinnt sich ein irrer Road-Trip durch die Welt des Jazz und rund um die gefürchtetste Räuberin aller Zeiten: Gretel Bandita Furiosa! Zeitloses Kasperltheater mit einem gehörigen Maß an Anarchie trifft auf Klassiker des Jazz und bringt die Musik Kindern jeden Alters nahe. Dafür sorgt ein eingespieltes Team aus drei professionellen Jazzern, einem Schauspieler und einer Puppenspielerin. Mitmachen ist garantiert!\nDauer: 50 Minuten\nBild: Rudi Ott
LOCATION:Kiesel im k42, 88045 Friedrichshafen
END:VEVENT
END:VCALENDAR