BEGIN:VCALENDAR
VERSION:2.0
PRODID:-//TYPO3/WES Cal (wes_cal)//DE
METHOD:PUBLISH
BEGIN:VEVENT
UID:https://www.friedrichshafen.de_33475
DTSTAMP:20260421T121018
DTSTART:20241107T193000
CATEGORIES:Konzert,Herbst,Musik
SUMMARY:Isidore String Quartet
DESCRIPTION:Phoenix Avalon: ViolineAdrian Steele: ViolineDevin Moore: ViolaJoshua McClendon: Violoncello\nWolfgang Amadeus Mozart: Streichquartett C-Dur KV465 „Dissonanzenquartett“Billy Childs: Streichquartett Nr. 3 „Unrequited” (2015)Ludwig van Beethoven: Streichquartett Nr. 12 Es-Dur op. 127\nStanding Ovations gibt es bei Kammermusik nicht jeden Tag. Das Isidore String Quartet reißt sein Publikum dagegen beinahe regelmäßig aus den Stühlen. Ebenso selten ist es, dass ein junges Ensemble bereits drei Jahre nach seiner Gründung einen der renommiertesten Streichquartett-Preise gewinnt: den 14. Internationalen Banff Streichquartett-Wettbewerb 2022. \nDas Isidore String Quartet, 2019 gegründet, überzeugte die Jury mit seinen ausgesprochen lebendigen Interpretationen. Tatsächlich hat es sich das junge New Yorker Ensemble zur Aufgabe gemacht, das gewohnte Repertoire neu zu erforschen. Sein Ansatz: das Alte so zu behandeln, als wäre es neu und das Neue, als sei es alt. Dementsprechend gestalten sie ihre Programme, stellen bekannte Werke zeitgenössischen gegenüber und bürsten Hörgewohnheiten gegen den Strich. Mit weltweitem Erfolg. Derart unkonventionell, gelassen, reif und vital zugleich hat man selten ein so junges Streichquartett erlebt.\nBild: Jiyang Chen
LOCATION:Graf-Zeppelin-Haus, 88045 Friedrichshafen
END:VEVENT
END:VCALENDAR