BEGIN:VCALENDAR
VERSION:2.0
PRODID:-//TYPO3/WES Cal (wes_cal)//DE
METHOD:PUBLISH
BEGIN:VEVENT
UID:https://www.friedrichshafen.de_20319
DTSTAMP:20260420T102528
DTSTART:20220112T193000
CATEGORIES:Schauspiel,Theater,Schauspiel & Theater
SUMMARY:Honig im Kopf
DESCRIPTION:nach dem gleichnamigen Film von Hilly Martinek und Til Schweiger Bühnenfassung: Florian Battermann, bearbeitet von René Heinersdorff Heiner Kondschak Regie und musikalische Bearbeitung Theater Lindenhof, Melchingen  Das Mädchen Tilda liebt ihren Großvater Amandus über alles. Als der an Alzheimer erkrankte Amandus nach dem Tod seiner Frau zusehends abbaut, nimmt die Familie ihn bei sich auf. Die fortschreitende Krankheit löst im Familienhaushalt einiges Chaos aus. Tilda findet das lustig. Doch Tildas Eltern sind der Ansicht, dass es so nicht weitergehen kann und planen einen Umzug von Amandus in ein Seniorenheim. Da beschließt Enkelin Tilda kurzerhand ihren Opa nochmals an den Ort zu bringen, an dem er einst mit seiner großen Liebe so glücklich war: Venedig! Eine abenteuerliche Reise beginnt.  Dauer: 120 Minuten, inkl. Pause  Abonnement "Studiotheater im Bahnhof Fischbach"\r\nMaximale Auslastung - kein Vorverkauf mehr möglich!
LOCATION:Bahnhof Fischbach, 88048 Friedrichshafen
END:VEVENT
END:VCALENDAR