BEGIN:VCALENDAR
VERSION:2.0
PRODID:-//TYPO3/WES Cal (wes_cal)//DE
METHOD:PUBLISH
BEGIN:VEVENT
UID:https://www.friedrichshafen.de_20258
DTSTAMP:20260420T120623
DTSTART:20210928T090000
CATEGORIES:Kinder-/Jugendtheater,Kinder & Familie,Kinder & Familie,Schauspiel & Theater
SUMMARY:Gute Reise (für Kinder)
DESCRIPTION:Für Kinder ab 8 Jahren  Theater Grüne Soße, Frankfurt In Kooperation mit dem Kinderschutzbund\r\nDer kleine Tarek macht sich von Mali aus auf den Weg nach Italien, um zu seiner Lieblingsfußballmannschaft zu kommen. Dort will er mit der Nummer Neun spielen, denn in seinem Dorf war er schon Torschützenkönig. Der Weg führt durch die Wüste und dann, wenn im Sand die Muscheln auftauchen, beginnt das Meer. Der Fischer Salvatore erzählt von Tareks unglaublicher Reise von Mali zum Mittelmeer, zu Fuß, im Zug oder eingepfercht in einem Durcheinander von Beinen, Plastiktüten und Wasserkanistern, auf einem alten Lastwagen oder auf einem großen heruntergekommenen Kahn. Gute Reise blickt auf die Geschichte eines mutigen Jungen und erzählt mit mitreißenden und einfühlsamen Szenen ein außergewöhnliches Abenteuer, in dem Gefahren nur mithilfe eines großen Traums überwunden werden können.\r\nIn einer knappen Stunde gelingt es der Inszenierung ein großes Thema auf einfühlsame, aber nicht anbiedernde Weise für Kinder zu zeigen - ein zartes und packendes Stück Theater. (Frankfurter Allgemeine Zeitung )  Dauer: 50 Min.\r\nTickets für Schulklassen erhalten Sie über das Kulturbüro Friedrichshafen unter der Tel Nr. 203-3300
LOCATION:Kiesel im k42, 88045 Friedrichshafen
END:VEVENT
END:VCALENDAR