BEGIN:VCALENDAR
VERSION:2.0
PRODID:-//TYPO3/WES Cal (wes_cal)//DE
METHOD:PUBLISH
BEGIN:VEVENT
UID:https://www.friedrichshafen.de_20228
DTSTAMP:20260420T120740
DTSTART:20220127T200000
CATEGORIES:Konzert,Musik,Musik
SUMMARY:Französische Kammermusik
DESCRIPTION:Julia Hagen Violoncello Thomas Reif Violine Annika Treutler Klavier  Claude Debussy: Sonate für Violoncello und Klavier d-Moll Maurice Ravel: Sonate für Violine und Violoncello „À la mémoire de Claude Debussy“ Gabriel Fauré: Trio für Klavier, Violine und Violoncello d-Moll op. 120\r\nDie Biografie der österreichischen Cellistin Julia Hagen glänzt mit renommierten musikalischen Partnern und berühmten Bühnen. Bereits mit 14 Jahren gab sie im Brucknerhaus Linz ihr Debüt als Solistin. Eine spannende junge Künstlerin, die zu den vielversprechendsten Instrumentalistinnen ihrer Generation gezählt wird. Der Geiger Thomas Reif, seines Zeichens erster koordinierter Konzertmeister beim Symphonieorchester des Bayerischen Rundfunks, ist ein gefragter Kammermusiker, Solist und Gast bei verschiedenen Festivals mit einem Repertoire, das frühe Barockmusik ebenso beinhaltet wie argentinische Tangomusik. Den Klavierpart gestaltet Annika Treutler. Die mehrfach ausgezeichnete Pianistin gastierte in den großen deutschen Sälen sowie im europäischen Ausland. Ihr Debüt in der Carnegie Hall (New York) musste pandemie-bedingt leider ausfallen. Seit Oktober 2018 lehrt Annika Treutler an der Hochschule für Musik Hanns Eisler, Berlin. Drei junge und zugleich arrivierte Künstler, die ein erlesenes Programm französischer Kammermusik spielen.   Abonnement "Internationale Kammerkonzerte"
LOCATION:Graf-Zeppelin-Haus, 88045 Friedrichshafen
END:VEVENT
END:VCALENDAR