BEGIN:VCALENDAR
VERSION:2.0
PRODID:-//TYPO3/WES Cal (wes_cal)//DE
METHOD:PUBLISH
BEGIN:VEVENT
UID:https://www.friedrichshafen.de_33513
DTSTAMP:20260421T104434
DTSTART:20250111T193000
CATEGORIES:Lesung,Winter,Literatur
SUMMARY:Fatih Cevikkollu - "Kartonwand"
DESCRIPTION:Fatih Çevikkollu liest aus „Kartonwand“Moderation: Fatih Özçelik\nAls Fatih Çevikkollus Mutter starb, war das für ihn ein Wendepunkt. Sie litt an einer Psychose und war im Alter nicht mehr gesellschaftsfähig. Und er fragte sich: Gibt es einen Zusammenhang zwischen den psychischen Problemen und ihrem Schicksal als sogenannte Gastarbeiterin in den Sechzigerjahren in Deutschland?Alle Arbeitsmigrantinnen und -migranten kennen sie, denn sie steht symbolisch für den Traum vom baldigen Glück in der Heimat: eine ganze Wand aus Kartons, in denen alles verstaut wurde, was schön und wertvoll war – für das spätere Leben in der Türkei.  Willkommen war man in Deutschland nicht, doch was hält man nicht alles aus, wenn es nur von kurzer Dauer ist? Es lohnte sich weder, die deutsche Sprache zu lernen, noch sich ein Zuhause zu schaffen, schließlich sollte es bald zurückgehen. Die Kinder wurden als Kofferkinder hin- und hergeschickt. Was macht es mit Menschen, wenn sie irgendwann merken: Der Traum zurückzukehren hat sich nicht erfüllt?Fatih Çevikkollu beschreibt sein Leben und das seiner türkischen Familie, die Träume und Enttäuschungen seiner Eltern, und er spricht mit Expertinnen und Experten über die Folgen der Arbeitsmigration, die bis heute in den Familien Wunden hinterlassen hat. Ein Thema, das bisher nur in Fachkreisen behandelt wurde und dringend in den Mittelpunkt der Debatten gehört.\nÜber Fatih ÇevikkolluFatih Çevikkollu ist ein deutscher Kabarettist, Theater-, Film- und Fernsehschauspieler und Sohn türkischer Eltern, die in den 60er Jahren als Arbeitsmigranten nach Deutschland kamen. Er studierte an der Hochschule für Schauspielkunst Ernst Busch in Berlin und ging dann ans Düsseldorfer Schauspielhaus. Im Fernsehen spielte er die Rolle des Murat Günaydin in Alles Atze. Für sein erstes Soloprogramm Fatihland wurde er 2006 mit dem Prix Pantheon Jurypreis ausgezeichnet. \nEine Veranstaltung des Kulturbüro Friedrichshafen in Kooperation mit Bildungshafen e.V.\nBild: Buchcover
LOCATION:Kiesel im k42, 88045 Friedrichshafen
END:VEVENT
END:VCALENDAR