BEGIN:VCALENDAR
VERSION:2.0
PRODID:-//TYPO3/WES Cal (wes_cal)//DE
METHOD:PUBLISH
BEGIN:VEVENT
UID:https://www.friedrichshafen.de_20270
DTSTAMP:20260420T155925
DTSTART:20211002T110000
CATEGORIES:Kinder-/Jugendtheater,Kinder & Familie,Kinder & Familie,Schauspiel & Theater
SUMMARY:Elektrische Schatten (für Kinder)
DESCRIPTION:Für Kinder ab 4 Jahren  Objekttheater für Entdecker und Erfinder, ohne Worte mit Live-Musik theater florschütz & döhnert, Berlin  Willkommen in einer fantastischen Werkstatt! Hier wird eine kuriose Maschine in Gang gesetzt: Alles dreht und verwandelt sich durch Bewegung, Licht, Geräusche und Musik. Wie durch Zauberei verselbständigen sich die Dinge und entwickeln ein Eigenleben, selbst ihre Schatten gehen spazieren. „Elektrische Schatten“ ist Objekttheater, das voller Experimentierlust unsere Sinne überrascht und mit feinen, leisen Geschichten zu Träumerei verführt. Ein Theater, das Kinder und Erwachsene gleichermaßen in seinen Bann zieht – ganz ohne Worte.  Dauer: 40 Minuten  Die Presse schrieb: „Bei Michael Döhnert und Melanie Florschütz passiert immer das Unerwartete, Dinge enthüllen Töne, entwickeln ein Eigenleben, haben eine Seele. (…) Federleicht wirkt das und traumhaft schön.“
LOCATION:Kiesel im k42, 88045 Friedrichshafen
END:VEVENT
END:VCALENDAR