BEGIN:VCALENDAR
VERSION:2.0
PRODID:-//TYPO3/WES Cal (wes_cal)//DE
METHOD:PUBLISH
BEGIN:VEVENT
UID:https://www.friedrichshafen.de_8314
DTSTAMP:20260420T143423
DTSTART:20220129T110000
CATEGORIES:Kinder-/Jugendtheater,Theater,Kinder & Familie,Schauspiel & Theater,Kinder & Familie
SUMMARY:„Einmal Schneewittchen, bitte“ (für Kinder)
DESCRIPTION:Theater Anna Rampe / Theater Zitadelle, Berlin Figurentheater nach den Brüdern Grimm\r\nAlter: Ab 4 Jahren (bis 2. Klasse) Dauer: ca. 50 Minuten\r\nMan nehme einen schönen Prinzen, ein einsames Mädchen, sieben verzückte, verrückte Zwerge, eine böse Stiefmutter, ein bisschen Magie, eine Menge Neid, eine große Portion Freundschaft, einen vergifteten Apfel und ein Happy End. So in etwa müsste das Rezept für „Einmal Schneewittchen, bitte“ aussehen, das in der Märchenapotheke Pacco & Co. von einem warmherzigen Hund und seiner stürmischen Assistentin zusammengestellt wird. Die Puppenspielerin Anna Fregin interpretiert das bekannte Märchen neu und präsentiert es voller Humor und mit vielen Überraschungen.\r\nDie Inszenierung erhielt den Ikarus-Preis der Jugendjury 2018.  Maximale Auslastung - kein Vorverkauf mehr möglich!
LOCATION:Kiesel im k42, 88045 Friedrichshafen
END:VEVENT
END:VCALENDAR