BEGIN:VCALENDAR
VERSION:2.0
PRODID:-//TYPO3/WES Cal (wes_cal)//DE
METHOD:PUBLISH
BEGIN:VEVENT
UID:https://www.friedrichshafen.de_20213
DTSTAMP:20260420T103006
DTSTART:20211114T110000
CATEGORIES:Konzert,Musik,Musik
SUMMARY:Earthquake: Samira Spiegel, Klavier und Violine
DESCRIPTION:Konzerte mit jungen Künstlerinnen und Künstlern  Ludwig van Beethoven: Klaviersonate Nr. 32 c-Moll op. 111 Henrik Ajax: Spukhafte Fernwirkung für Klavier, Violine und Loop Station Maurice Ravel: Gaspard de la nuit  Samira Spiegel ist sicher eines der außergewöhnlichsten Talente ihrer Generation. Bereits in jungen Jahren beeindruckte sie mit ihrer herausragenden Doppelbegabung als Pianistin und Geigerin. Mit beiden Instrumenten wurde sie vielfache Preisträgerin bei nationalen und internationalen Wettbewerben. Das vielseitige Repertoire der mit Stipendien und Förderpreisen ausgezeichneten Künstlerin erstreckt sich von barocker bis zu zeitgenössischer Musik. Bereits mit 13 Jahren debütierte sie als Geigensolistin, vier Jahre später als Pianistin. Ihre Konzerttätigkeit führt sie seither durch ganz Deutschland und quer durch Europa. Neben ihrer solistischen Tätigkeit gilt ihre große Liebe auch der Kammermusik. Mit ihrer Duo-Partnerin, der Pianistin Nina Scheidmantel wurde sie in Yehudi Menuhins Stiftung „Live Music Now“ aufgenommen.  Dauer: ca. 70 Minuten, keine Pause
LOCATION:Kiesel im k42, 88045 Friedrichshafen
END:VEVENT
END:VCALENDAR