BEGIN:VCALENDAR
VERSION:2.0
PRODID:-//TYPO3/WES Cal (wes_cal)//DE
METHOD:PUBLISH
BEGIN:VEVENT
UID:https://www.friedrichshafen.de_20210
DTSTAMP:20260420T132918
DTSTART:20211010T110000
CATEGORIES:Konzert,Musik,Musik
SUMMARY:Earthquake - Guranda Gabelaia, Klavier
DESCRIPTION:Frédéric Chopin (1810-1849) Etüde Nr.12 c-moll op. 10 "Revolutionsetüde"  Joseph Haydn (1732 – 1809) Sonate C-Dur (Hob. XVI: 50) Allegro • Adagio  • Allegro molto\r\nFrédéric Chopin (1810-1849) Nocturne Nr. 20 c-Moll op. posth., Lento con gran espressione  Ludwig van Beethoven (1770-1827) Klaviersonate Nr. 17 d-Moll op. 31 Nr. 2 (Der Sturm) 3. Satz Allegretto, d-Moll  Otar Tatishvili (1979*) Ethnomania Zyklus Nr. 1. "Highlanders Affliction" und Nr. 4. "Liturgy"\r\nFrédéric Chopin (1810-1849) Ballade Nr. 1 g-Moll op. 23  Guranda Gabelaia ist 1989 in Georgien geboren. Sie studierte in Tiflis, anschließend u. a. an den Hochschulen für Musik in Nürnberg, Augsburg und am Mozarteum in Salzburg. Sie gab Konzerte u. a. in Georgien, Italien, Frankreich, USA, Armenien und in der Türkei und ist mehrfache Preisträgerin bei internationalen Wettbewerben. Unter anderem erhielt sie 2021 den ersten Preis bei „Città di Padova" in Italien, 2011 den Sonderpreis in Washington, 2017 den zweiten Preis und Sonderpreis beim XI Internationalen Franz Schubert Klavierduo Wettbewerb in Bulgarien.\r\nSeit 2020 ist sie als Lehrkraft für Klavier und Korrepetition an der Musikschule Friedrichshafen tätig\r\nDauer: ca. 70 Minuten, keine Pause
LOCATION:Kiesel im k42, 88045 Friedrichshafen
END:VEVENT
END:VCALENDAR