BEGIN:VCALENDAR
VERSION:2.0
PRODID:-//TYPO3/WES Cal (wes_cal)//DE
METHOD:PUBLISH
BEGIN:VEVENT
UID:https://www.friedrichshafen.de_20226
DTSTAMP:20260420T102928
DTSTART:20220109T110000
CATEGORIES:Konzert,Musik,Musik
SUMMARY:Earthquake - Anton Gerzenberg, Klavier
DESCRIPTION:Konzerte mit jungen Künstlerinnen und Künstlern\r\nElliott Carter: Night Fantasies Ludwig van Beethoven: 6 Bagatellen op. 126  Maurice Ravel: Gaspard de la nuit\r\nAuch im Januar gibt es ein Konzert der beliebten Reihe „Earthquake”. Für den Januar ist eine Preisträgerin bzw. ein Preisträger des Internationalen Klavierwettbewerbs Concours Géza Anda 2021 vorgesehen. Seit vielen Jahren bereits gibt es eine enge Zusammenarbeit zwischen dem Wettbewerb und dem Kulturbüro Friedrichshafen. Regelmäßig sind erfogreiche Teilnehmende dieses außerordentlich anspruchsvollen Concours am See zu Gast.  Dauer: ca. 70 Minuten, keine Pause
LOCATION:Kiesel im k42, 88045 Friedrichshafen
END:VEVENT
END:VCALENDAR