BEGIN:VCALENDAR
VERSION:2.0
PRODID:-//TYPO3/WES Cal (wes_cal)//DE
METHOD:PUBLISH
BEGIN:VEVENT
UID:https://www.friedrichshafen.de_20215
DTSTAMP:20260420T120057
DTSTART:20211118T180000
CATEGORIES:Konzert,Musik,Musik
SUMMARY:Drum Stars
DESCRIPTION:Mitreißende Rhythmen, Energie & Performance  Mit den Drum-Stars wird es laut, wild und unglaublich unterhaltsam! In ihrer mitreißenden Percussion-Show trommeln die drei Profi-Schlagzeuger auf allem, was ihnen unter ihre flinken Sticks kommt. Egal ob leuchtende LED-Drums, Wassertrommeln oder gewöhnliche Alltagsutensilien – mit den Drum-Stars wird jeder Gegenstand zu einer kleinen Trommelsensation. Dabei überzeugen die Vollblut-Perkussionisten mit ihrer Schnelligkeit, Perfektion und ihrem Gespür für die lauten wie auch leisen Töne. Drum-Stars machen Musik, die in die Beine fährt und eine witzige Show, die Groß wie Klein begeistert.  Dauer: ca. 60 Minuten, keine Pause  Eine Veranstaltung im Rahmen der Reihe HAPPY HOUR.
LOCATION:Bahnhof Fischbach, 88048 Friedrichshafen
END:VEVENT
END:VCALENDAR