BEGIN:VCALENDAR
VERSION:2.0
PRODID:-//TYPO3/WES Cal (wes_cal)//DE
METHOD:PUBLISH
BEGIN:VEVENT
UID:https://www.friedrichshafen.de_8311
DTSTAMP:20260420T144210
DTSTART:20211125T200000
CATEGORIES:Schauspiel,Theater,Schauspiel & Theater
SUMMARY:Don Quijote
DESCRIPTION:Frei nach dem besten Buch der Welt Ensemble Materialtheater, Stuttgart\r\nKoproduktion mit dem FITZ! Stuttgart und dem Théâtre Octobre Brüssel\r\nSind sie Spinner, Idealisten oder Visionäre? Das Verhalten von Don Quijote und seinem treuen Knappen Sancho Panza – den beiden Hauptfiguren des vor rund 400 Jahren von Miguel de Cervantes geschriebenen Romans –– lässt verschiedene Lesarten zu. Auf der Suche nach vermeintlichen Abenteuern, die es zu bestreiten gibt, kämpfen sie u. a. gegen Windmühlen und attackieren eine große Hammelherde. Seit 2002 ist das 1400 Seiten umfassende Werk offiziell „das beste Buch der Welt“. In dieser fantasie- und humorvollen Figurentheater-Inszenierung geleiten Sie zwei leicht skurrile Damen mit Esprit, Finten, Kenntnis und Mut zur Lücke durch eine Welt, in der närrische Einbildung mit Geist, Tollpatschigkeit mit Heldentum und Pragmatismus mit feurigen Idealen auf unterhaltsamste Weise zueinanderfinden.\r\nDie Presse schrieb:\r\n„Einfallsreichtum, Selbstironie und staubtrockener Humor werden kongenial verbunden. Ein wenig Verrücktheit schadet nicht, so die Botschaft.“\r\n„Pralles Spiel, zwischen Skurrilität und Tiefsinn. Ein meisterhaftes Kaleidoskop des Figurentheaters.“\r\n„Ein großartiger Abend.“\r\n„Aberwitzig – philosophisch – süchtigmachend!“\r\nDauer: ca. 100 Minuten
LOCATION:Kiesel im k42, 88045 Friedrichshafen
END:VEVENT
END:VCALENDAR