BEGIN:VCALENDAR
VERSION:2.0
PRODID:-//TYPO3/WES Cal (wes_cal)//DE
METHOD:PUBLISH
BEGIN:VEVENT
UID:https://www.friedrichshafen.de_20261
DTSTAMP:20260420T103728
DTSTART:20211111T193000
CATEGORIES:Musiktheater,Musik,Theater,Musik,Schauspiel & Theater
SUMMARY:Die Fledermaus
DESCRIPTION:Halbszenische Aufführung Operette in drei Akten von Johann Strauß Libretto von Karl Haffner und Richard Genée Südwestdeutsche Philharmonie Konstanz Vokalensemble Camerata Serena Solistinnen und Solisten Nikolaus Henseler Musikalische Leitung Gunnar Heiland Dramaturgie und Regie\r\nEisenstein: Patrik Horňák, Tenor Rosalinde: Mariann Grieshaber, Sopran Adele: Ines Bergk, Sopran Dr. Falke / Advokat Blind : Manuel Kundinger, Bariton Gefängnisdirektor Frank : Pascal Zurek, Bassbariton Prinz Orlofsky: Hanna Roos, Mezzosopran Alfred: Philipp Nicklaus, Tenor Erzähler: Gunter Heun\r\n„Glücklich ist, wer vergisst“ – in dieser Operette will einer Rache, die anderen wollen sich amüsieren. Deshalb streben alle zum Ball beim Grafen Orlofsky. Verborgen hinter Masken treiben sie ein falsches Spiel. Und erst der nächste Morgen bringt die nüchterne Wahrheit ans Licht. Mit dieser prickelnden Operette voller ironischer Anspielungen schuf Johann Strauß ein Meisterwerk des Genres. Walzer, Polkas, Csárdás, alles was zur Wiener Operette gehört, gibt es hier in Fülle. In dieser spritzigen konzertanten Aufführung, gestaltet von einem jungen Ensemble aus Solistinnen und Solisten, schafft ein Erzähler mit einer komödiantischen Textfassung die Verbindung zwischen den Szenen.  Dauer: 140 Minuten inkl. Pause  Abonnement „Musical & Entertainment"
LOCATION:Graf-Zeppelin-Haus, 88045 Friedrichshafen
END:VEVENT
END:VCALENDAR