BEGIN:VCALENDAR
VERSION:2.0
PRODID:-//TYPO3/WES Cal (wes_cal)//DE
METHOD:PUBLISH
BEGIN:VEVENT
UID:https://www.friedrichshafen.de_33619
DTSTAMP:20260421T121803
DTSTART:20241211T100000
CATEGORIES:Junges Publikum,Tanz,Workshops & Pädagogische Angebote,Sonstiges,Tanz,Kinder & Familie
SUMMARY:Renegade: Der Weihnachtsroboter (5+)
DESCRIPTION:Hip-Hop-TanztheaterJennifer Ewert: RegieZekai Fenerci: IdeeTill Beckmann: Text Christian Zacharas: Choreografische Mitarbeit\r\nMit Jacqueline Neuenhausen, Claudio Schulz-Keune, Mircacle Laackmann, Harun Raşit Çiftçi Tanz \r\nWeihnachten steht vor der Türe und damit das traditionelle Weihnachtsfest im Hochhaus an der Emscherstraße 55. Aber in diesem Jahr ist alles anders. Denn der neue Hausmeister Ülkü Öztürk, der gerade erst mit seiner Tochter Yasemin eingezogen ist, soll das Fest organisieren. Doch von Weihnachten hat er keinen blassen Schimmer. Ülkü Öztürk ist ratlos: „Yasemin, du machst das, yallah!“ Aber Yasemin will lieber mit ihrer Hip-Hop-Crew für einen großen Tanzwettbewerb trainieren. Also schnell das Smartphone gezückt und die Suchmaschine befragt: „Weihnachtsfeier Hilfe??!!“. Die  Algorithmen laufen heiß, schließlich ein Treffer: Der Weihnachtsroboter soll’s richten. Ein Klick, und schon hat Yasemin den Weihnachtsprofi bestellt. Als erste urbane Tanzkompanie Deutschlands hat Renegade seit 2003 etliche Preise gewonnen und den Straßentanz Hip-Hop auf die großen Bühnen gebracht. Zwar ist das Projekt Anfang 2023 in das neue URBAN ART ENSEMBLE RUHR übergegangen, doch das beliebte Stück „Der Weihnachtsroboter“ ist erhalten geblieben – ein Tanztheaterstück für alle, die Weihnachten feiern und ebenso für alle, die es nicht feiern. \r\n „Der Weihnachtsroboter“ von Pottporus wird gefördert durch Interkultur Ruhr und das Ministerium für Kultur und Wissenschaft des Landes Nordrhein-Westfalen sowie von der Kulturinitiative Herne.                                     \r\nDauer: 1 Stunde, keine Pause Anmeldungen nimmt das Kulturbüro mit der Angabe des Namens der Schule, der Adresse und der Klassenstufe entgegen: kulturbuero@friedrichshafen.de
LOCATION:Bahnhof Fischbach, 88048 Friedrichshafen
END:VEVENT
END:VCALENDAR