BEGIN:VCALENDAR
VERSION:2.0
PRODID:-//TYPO3/WES Cal (wes_cal)//DE
METHOD:PUBLISH
BEGIN:VEVENT
UID:https://www.friedrichshafen.de_19198
DTSTAMP:20260420T102555
DTSTART:20211116T193000
CATEGORIES:Schauspiel,Theater,Schauspiel & Theater
SUMMARY:Der Vorname
DESCRIPTION:Hans Otto Theater, Potsdam  von Matthieu Delaporte und Alexandre de La Patellière Deutsch von Georg Holzer Moritz Peters Regie\r\nPierre und seine Frau Elisabeth wollen zu Hause ein gemütliches Abendessen mit engen Vertrauten verbringen. Eingeladen sind Elisabeths Bruder Vincent, seine schwangere Lebensgefährtin Anna und ihr gemeinsamer Jugendfreund Claude. In Streitlust oder aus einer Laune heraus provoziert Vincent unerwartet mit der Bekanntgabe, sein noch ungeborener Sohn Adolphe solle heißen. Vincents indifferente Haltung, ob man seinem Kind den Vornamen des größten Kriegsverbrechers aller Zeiten geben darf, ist nur eine der unliebsamen Enthüllungen, die dieser zunehmend explosive Abend zutage fördert. Wie steht es um Pierre und Elisabeth? Sucht sie Anerkennung mit exotischen Kochkünsten? Warum wird Claude, der stille Musiker, wie ein rohes Ei behandelt? Und was steckt hinter dem egomanischen Vincent, der das größte Auto fährt und immer den teuersten Wein spendiert?\r\nDie Autoren, beide Jahrgang 1971, schreiben seit 2001 gemeinsam erfolgreich Drehbücher für Film und Fernsehen. Ihr erstes Theaterstück Le prénom gehört seit der Uraufführung 2010 in Paris zu den meistgespielten zeitgenössischen Komödien und wurde zweimal verfilmt.\r\nEinführung: 19:00 Uhr\r\nDauer: 95 Minuten, keine Pause  Abonnement "Schauspiel im Graf-Zeppelin-Haus"
LOCATION:Graf-Zeppelin-Haus, 88045 Friedrichshafen
END:VEVENT
END:VCALENDAR