BEGIN:VCALENDAR
VERSION:2.0
PRODID:-//TYPO3/WES Cal (wes_cal)//DE
METHOD:PUBLISH
BEGIN:VEVENT
UID:https://www.friedrichshafen.de_20429
DTSTAMP:20260420T151827
DTSTART:20211016T170000
CATEGORIES:Kinder-/Jugendtheater,Kinder & Familie,Kinder & Familie,Schauspiel & Theater
SUMMARY:Der Elefantenpups  (für Kinder)
DESCRIPTION:Für Kinder ab 4 Jahren \r\nDirektor Fröhlich und das Zoo-Orchester für Erzähler und kleines Orchester Musik: Christian Klaessen / Text: Heidi Leenen Carola Bühn Erzählerin ensemble minifaktur / Pietro Sarno, Leitung  \r\nHerr Fröhlich ist Direktor eines großen Zoos. Jeden Morgen begrüßt er gut gelaunt und mit einem Lied auf den Lippen die Tiere in den Gehegen. Doch eines Tages stolpert er im Elefantengehege und muss ins Krankenhaus. Von diesem Tag an verändert sich das Leben im Tierpark dramatisch: Der Löwe liegt gelangweilt in der Ecke, der Papagei lässt das Plappern und die Schildkröte bewegt sich überhaupt nicht mehr. Kein Wunder, dass kein Besucher mehr kommt. Zum Glück hat Tierpfleger Timo eine geniale Idee ...\r\nEine Geschichte über und mit Musik, in der viele Zootiere mitspielen, die Orchesterinstrumente vorgestellt werden und die jungen Zuhörer erfahren, wie man Gefühle mit Musik ausdrücken kann.\r\nDauer: 37 Minuten
LOCATION:Graf-Zeppelin-Haus, 88045 Friedrichshafen
END:VEVENT
END:VCALENDAR